BEGIN:VCALENDAR
VERSION:2.0
PRODID:-//Region Ten - ECPv5.16.4//NONSGML v1.0//EN
CALSCALE:GREGORIAN
METHOD:PUBLISH
X-WR-CALNAME:Region Ten
X-ORIGINAL-URL:https://regionten.org
X-WR-CALDESC:Events for Region Ten
BEGIN:VTIMEZONE
TZID:America/New_York
BEGIN:DAYLIGHT
TZOFFSETFROM:-0500
TZOFFSETTO:-0400
TZNAME:EDT
DTSTART:20260308T070000
END:DAYLIGHT
BEGIN:STANDARD
TZOFFSETFROM:-0400
TZOFFSETTO:-0500
TZNAME:EST
DTSTART:20261101T060000
END:STANDARD
END:VTIMEZONE
BEGIN:VEVENT
DTSTART;VALUE=DATE:20260101
DTEND;VALUE=DATE:20260103
DTSTAMP:20260425T113731
CREATED:20251021T192943Z
LAST-MODIFIED:20251021T192943Z
UID:29913-1767225600-1767398399@regionten.org
SUMMARY:BRC CLOSED - NEW YEARS
DESCRIPTION:Blue Ridge Center will be closed on January 1st and 2nd in observance of New Years. \nWe will reopen normal hours on Jan 5th.
URL:https://regionten.org/event/brc-closed-new-years/
CATEGORIES:Blue Ridge Center
END:VEVENT
END:VCALENDAR