BEGIN:VCALENDAR
VERSION:2.0
PRODID:-//Region Ten - ECPv5.16.4//NONSGML v1.0//EN
CALSCALE:GREGORIAN
METHOD:PUBLISH
X-WR-CALNAME:Region Ten
X-ORIGINAL-URL:https://regionten.org
X-WR-CALDESC:Events for Region Ten
BEGIN:VTIMEZONE
TZID:America/New_York
BEGIN:DAYLIGHT
TZOFFSETFROM:-0500
TZOFFSETTO:-0400
TZNAME:EDT
DTSTART:20260308T070000
END:DAYLIGHT
BEGIN:STANDARD
TZOFFSETFROM:-0400
TZOFFSETTO:-0500
TZNAME:EST
DTSTART:20261101T060000
END:STANDARD
END:VTIMEZONE
BEGIN:VEVENT
DTSTART;VALUE=DATE:20260119
DTEND;VALUE=DATE:20260120
DTSTAMP:20260424T005856
CREATED:20251028T161338Z
LAST-MODIFIED:20251029T132252Z
UID:30237-1768780800-1768867199@regionten.org
SUMMARY:BRC CLOSED - MLK DAY
DESCRIPTION:Blue Ridge Center will be closed Monday January 19th for Martin Luther King Day. We will reopen on Tuesday January 2oth normal business hours.
URL:https://regionten.org/event/brc-closed-mlk/
CATEGORIES:Blue Ridge Center
END:VEVENT
END:VCALENDAR